BEGIN:VCALENDAR
VERSION:2.0
PRODID:-//Ouse Valley Football - ECPv4.6.23//NONSGML v1.0//EN
CALSCALE:GREGORIAN
METHOD:PUBLISH
X-WR-CALNAME:Ouse Valley Football
X-ORIGINAL-URL:http://www.ovfootball.com
X-WR-CALDESC:Events for Ouse Valley Football
BEGIN:VEVENT
DTSTART;TZID=Europe/London:20170212T100000
DTEND;TZID=Europe/London:20170212T143000
DTSTAMP:20260421T152105
CREATED:20170204T235604Z
LAST-MODIFIED:20170212T101852Z
UID:4864-1486893600-1486909800@www.ovfootball.com
SUMMARY:Senior Team Practice
DESCRIPTION:
URL:http://www.ovfootball.com/event/senior-team-practice/
LOCATION:Bedford International Athletics Stadium\, Barkers Lane\, Bedford\, Bedfordshire\, MK419SB\, United Kingdom
CATEGORIES:Practice
ATTACH;FMTTYPE=image/jpeg:http://www.ovfootball.com/wp-content/uploads/2016/02/Tackle.jpg
END:VEVENT
END:VCALENDAR